BEGIN:VCALENDAR
VERSION:2.0
PRODID:https://github.com/derhansen/sf_event_mgt
METHOD:PUBLISH
BEGIN:VEVENT
UID:344-9@www.collegiale-saint-martin.fr
CLASS: PUBLIC
SUMMARY:ArrÃªt sur 3 talents - 17h
DESCRIPTION:En raison des grÃ¨ves dans les transports, Julia Malye est cont
 rainte d'annuler sa venue.\n\n\n\nArrÃªt sur 3 talents : Julie HERACLES, J
 ulia MALYE & Alice RENARD\n\nSamedi 17 fÃ©vrier - 17 h\n\nJulie HÃ©raclÃ¨s
  Un premier roman bouleversant de cette autrice chartraine et qui est part
 ie vivre trois ans Ã  la RÃ©union pour Ã©crire Vous ne connaissez rien de 
 moi. Le 16 aoÃ»t 1944, Ã  Chartres, le photographe Robert Capa a immortali
 sÃ© une femme tondue, le visage inclinÃ© vers son nourrisson, conspuÃ©e pa
 r la foule. "[...] Aujourdâ€™hui, encore plus quâ€™hier, je suis forte dâ€
 ™un trÃ©sor inestimable. Un trÃ©sor que beaucoup dâ€™entre vous passerez t
 oute une vie Ã  chercher et nâ€™obtiendrez jamais. Jâ€™ai aimÃ©. Et jâ€™ai
  Ã©tÃ© aimÃ©e."\n\nJulia Malye Elle a publiÃ© son premier roman, La fiancÃ
 ©e de Tocqueville Ã  lâ€™Ã¢ge de 15 ans. Elle enseigne lâ€™Ã©criture de fi
 ction Ã  Sciences politiques Ã  Paris. Son quatriÃ¨me roman Ã©crit parallÃ
 ¨lement en franÃ§ais et en anglais est tout simplement trÃ¨s rÃ©ussi. Pari
 s, 1720. Marguerite Pancatelin, la SupÃ©rieure de la SalpÃªtriÃ¨re, est ma
 ndatÃ©e pour sÃ©lectionner une centaine de femmes Â« volontaires Â» qui se
 ront envoyÃ©es en Louisiane afin dâ€™y Ã©pouser les colons franÃ§ais. Parm
 i elles, trois amies improbables : une orpheline de douze ans, une jeune a
 ristocrate dÃ©sargentÃ©e et une femme condamnÃ©e pour avortement. Ces Ã©tr
 angÃ¨res devront braver lâ€™adversitÃ© et vivront une amitiÃ© forgÃ©e dans
  le feu.\n\nAlice Renard Cette jeune autrice de la derniÃ¨re rentrÃ©e litt
 Ã©raire est Ã©tudiante en littÃ©rature mÃ©diÃ©vale Ã  la Sorbonne. RÃ©vÃ©l
 Ã©e prÃ©coce Ã  lâ€™Ã¢ge de six ans, la question de la neurodiversitÃ© et 
 de lâ€™hypersensibilitÃ© lâ€™a toujours passionnÃ©e. La ColÃ¨re et lâ€™Env
 ie est son premier roman. Ce roman est le portrait dâ€™Isor, cette enfant 
 qui nâ€™est pas comme les autres et une existence en huis clos sâ€™est con
 struite autour dâ€™elle. Isor nâ€™entre pas dans les cases. Câ€™est une hi
 stoire dâ€™amour Ã©ruptive, dâ€™Ã©mancipation et de rÃ©conciliation.\n\nBi
 lletterie & Informations pratiques\n\nEvÃ©nÃ©ment gratuit / Nombre de plac
 es limitÃ© (placement libre et non numÃ©rotÃ©). A la fin de chaque Entreti
 en, une sÃ©ance de dÃ©dicaces est organisÃ©e en prÃ©sence d'une librairie 
 partenaire (vente d'ouvrages sur place).\n\n 	A l'accueil de la CollÃ©gial
 e du mardi au dimanche 	- en janvier de 13h Ã  19h 	- en fÃ©vrier de 14h Ã
   18h \n\nToute place non prÃ©sentÃ©e 15 min avant le dÃ©but de l'entretie
 n sera redistribuÃ©e. Pour Ã©viter des dÃ©sistements trop nombreux, le nom
 bre de place par entretien et par personne, est limitÃ© Ã  4. Il sera dema
 ndÃ© Ã  toute personne de ressortir Ã  la fin de chaque entretien.
LOCATION:CollÃ©giale Saint-Martin - 23 rue Saint Martin, Angers
DTSTAMP:20240216T174528Z
DTSTART:20240217T170000Z
DTEND:20240217T180000Z
END:VEVENT
END:VCALENDAR