BEGIN:VCALENDAR
VERSION:2.0
PRODID:https://github.com/derhansen/sf_event_mgt
METHOD:PUBLISH
BEGIN:VEVENT
UID:575-9@www.collegiale-saint-martin.fr
CLASS: PUBLIC
SUMMARY:Fête de la Musique - 16h / Voix
DESCRIPTION:Fête de la musique\n\nDimanche 21 juin - 16 h Gratuit\n\nLa ch
 orale départementale chante dans le choeur de la Collégiale avec le choe
 ur d’enfants de la Maîtrise des Pays de la Loire.\n\nLa chorale départ
 ementale : Une quarantaine d’agents du département de Maine-et-Loire, s
 ous la direction de Sarah Pouplet, cheffe de choeur à la Maîtrise des Pa
 ys de la Loire.\n\nLa Maîtrise des Pays de la Loire a toujours entretenu 
 un lien privilégié avec la Collégiale. Présente avec le choeur d’enf
 ants lors de l’inauguration du site le 23 juin 2006, elle a également e
 nregistré un disque in situ avec le Jeune Choeur en 2010, Anamnesis. Elle
  est revenue y chanter pour le 10e anniversaire de la réouverture en 2016
 , 10 ans après l’inauguration de la Collégiale, jour pour jour. Une é
 vidense donc de les retrouver pour ce 20e anniversaire !\n\nDurée : 50 m
 in Sans réservation\n\nRetrouvez toute les spectacles de la saison 2026 s
 ur notre page !
LOCATION:Collégiale Saint-Martin - 23 rue Saint Martin, Angers
DTSTAMP:20260206T171753Z
DTSTART:20260621T140000Z
DTEND:20260621T150000Z
END:VEVENT
END:VCALENDAR