BEGIN:VCALENDAR
VERSION:2.0
PRODID:https://github.com/derhansen/sf_event_mgt
METHOD:PUBLISH
BEGIN:VEVENT
UID:574-9@www.collegiale-saint-martin.fr
CLASS: PUBLIC
SUMMARY:VOCES8 Scholars - 20h / Voix
DESCRIPTION:VOCES8 Scholars\n\nMardi 23 juin - 20 h.\n\nHuit voix a capella
 . Créé en 2015, l’objectif du programme Scholars (Boursiers) est de fo
 rmer de jeunes artistes polyvalents et accomplis, dotés des compétences 
 nécessaires pour réussir au début de leur carrière professionnelle. En
 cadrés par des membres actuels et anciens de VOCES8, le programme propose
  des formations à l’interprétation, à l’enregistrement et à l’an
 imation d’ateliers, avec la possibilité de chanter aux côtés de VOCES
 8.\n\nL’ensemble vocal britannique VOCES8, nominé aux Grammy Awards 202
 3, est lauréat de nombreux prix internationaux et l’un des principaux e
 nsembles vocaux britanniques. Il propose un répertoire allant des polypho
 nies anciennes jusqu’au jazz en passant par des arrangements populaires.
 \n\nDurée : 1h environ [Ouverture des portes 30 min avant]\n\nCerise sur
  le gâteau d’anniversaire !  Vous avez pris une place pour le concert 
 ? A 18h, un atelier vocal animé par Paul Smith vous est proposé pour met
 tre en place un aria d’environ 4 minutes avec le public. Paul Smith est 
 un artiste novateur et créatif, chef d’orchestre, compositeur, pédagog
 ue inspirant et conférencier captivant. Cofondateur de VOCES8, auteur de 
 la méthode VOCES8 et directeur général de la Fondation VOCES8, il inter
 vient chaque année dans le monde entier, dans des salles de concert prest
 igieuses, des festivals, des écoles, des universités et auprès de commu
 nautés diverses. Il est passionné par l’impact que le chant et les art
 s peuvent avoir dans le plus grand nombre – de la réussite scolaire au 
 développement des compétences sociales, en passant par la construction d
 e communautés plus solidaires. Il met cette passion au service de la conc
 eption et de la réalisation de projets artistiques uniques, inclusifs et 
 inspirants. La collaboration est au coeur de sa démarche musicale.\n\nSur
  présentation de votre place de concert. Durée : 45 min\n\n>> Retrouvez 
 Voces8 sur leur site.\n\nTarifs\n\n 	Plein tarif : 30 € 	Tarif réduit :
  25 € 	Tarif étudiant Carte Culture de l'Université d'Angers : 3 € 	
 Tarif spécial jeunes moins de 25 ans : 5 € le jour du spectacle, à l'o
 uverture des portes, dans la limite des places disponibles. 	Tarif groupe 
 : pour 10 billets minimum achetés pour un même spectacle, le tarif rédu
 it s’applique automatiquement. 	Gratuit pour les moins de 6 ans. 	Gratui
 t pour les jeunes nés en 2006 (sur présentation d'une pièce d'identité
 ) \n\nTarifs réduits applicables, sur présentation d’un justificatif :
  aux titulaires de la carte Privilège de la collégiale (en cours de vali
 dité au moment du spectacle), de la carte Cézam, aux moins de 18 ans et 
 étudiants de moins de 27 ans, aux demandeurs d’emploi, aux bénéficiai
 res des minimas sociaux, aux personnes en situation de handicap, aux profe
 sseurs et élèves des écoles de musique et de conservatoires, aux membre
 s de l’association des parents d’élèves du Conservatoire (APEC).\n\n
 Billetterie\n\n 	sur place :  	 		de février à avril : du mardi au dima
 nche, de 14 h à 18 h. 		de mai à juin : du mardi au dimanche, de 13 h à
  19 h 	 	 	sur notre billetterie en ligne \n\nRetrouvez toute les spectacl
 es de la saison 2026 sur notre page !\n\nAccessibilité de l'événement\
 n\nVous êtes en situation de handicap ? Merci de vous présenter à l’e
 space dédié avant l’ouverture des portes. L’accès vous sera possibl
 e 5 min avant afin de vous installer dans le calme.
LOCATION:La Collégiale Saint-Martin - 23 rue Saint Martin, Angers
DTSTAMP:20260318T101444Z
DTSTART:20260623T180000Z
DTEND:20260623T190000Z
END:VEVENT
END:VCALENDAR